BEGIN:VCALENDAR
VERSION:2.0
PRODID:-//AUORL - ECPv6.15.20//NONSGML v1.0//EN
CALSCALE:GREGORIAN
METHOD:PUBLISH
X-ORIGINAL-URL:https://auorl.it
X-WR-CALDESC:Eventi per AUORL
REFRESH-INTERVAL;VALUE=DURATION:PT1H
X-Robots-Tag:noindex
X-PUBLISHED-TTL:PT1H
BEGIN:VTIMEZONE
TZID:Europe/Rome
BEGIN:DAYLIGHT
TZOFFSETFROM:+0100
TZOFFSETTO:+0200
TZNAME:CEST
DTSTART:20250330T010000
END:DAYLIGHT
BEGIN:STANDARD
TZOFFSETFROM:+0200
TZOFFSETTO:+0100
TZNAME:CET
DTSTART:20251026T010000
END:STANDARD
BEGIN:DAYLIGHT
TZOFFSETFROM:+0100
TZOFFSETTO:+0200
TZNAME:CEST
DTSTART:20260329T010000
END:DAYLIGHT
BEGIN:STANDARD
TZOFFSETFROM:+0200
TZOFFSETTO:+0100
TZNAME:CET
DTSTART:20261025T010000
END:STANDARD
BEGIN:DAYLIGHT
TZOFFSETFROM:+0100
TZOFFSETTO:+0200
TZNAME:CEST
DTSTART:20270328T010000
END:DAYLIGHT
BEGIN:STANDARD
TZOFFSETFROM:+0200
TZOFFSETTO:+0100
TZNAME:CET
DTSTART:20271031T010000
END:STANDARD
END:VTIMEZONE
BEGIN:VEVENT
DTSTART;TZID=Europe/Rome:20260507T080000
DTEND;TZID=Europe/Rome:20260509T170000
DTSTAMP:20260426T054713
CREATED:20260320T130052Z
LAST-MODIFIED:20260320T130414Z
UID:2620-1778140800-1778346000@auorl.it
SUMMARY:26° CONGRESSO NAZIONALE AICEFF
DESCRIPTION:26° CONGRESSO NAZIONALE AICEFF\nRHINOPLASTY: ANCIENT NOBILITY AND TECHNOLOGICAL FUTURE\nMILANO\n7 – 9 Maggio 2026 \n  \nDIRETTORE\nMario Bussi \nPRESIDENTE AICEFF\nPatrizia Schiavon \n  \nSEGRETERIA SCIENTIFICA\nLucia Oriella Piccioni\npiccioni.luciaoriella@hsr.it\nRosa Alessia Battista\nbattista.rosaalessia@hsr.it \nI.R.C.C.S\nOspedale San Raffaele\nVia Olgettina 60\n20132 Milano \nSEGRETERIA ORGANIZZATIVA\nVia Portanuova 3 – 33100 Udine\nTel. +39 0432 21391\nFax +39 0432 506687\nPiazza di Pietra 63 – 00186 Roma\nTel. +39 06 68807925\nFax +39 06 68212211\nmail@nordestcongressi.it\nwww.nordestcongressi.it \n  \nPROGRAMMA PRELIMINARE
URL:https://auorl.it/evento/26-congresso-nazionale-aiceff/
CATEGORIES:PATROCINATO
ATTACH;FMTTYPE=image/jpeg:https://auorl.it/wp-content/uploads/2026/03/AICEFF26_Programma-prel_20mar26-1.jpg
END:VEVENT
END:VCALENDAR