BEGIN:VCALENDAR
VERSION:2.0
PRODID:-//AUORL - ECPv6.15.20//NONSGML v1.0//EN
CALSCALE:GREGORIAN
METHOD:PUBLISH
X-ORIGINAL-URL:https://auorl.it
X-WR-CALDESC:Eventi per AUORL
REFRESH-INTERVAL;VALUE=DURATION:PT1H
X-Robots-Tag:noindex
X-PUBLISHED-TTL:PT1H
BEGIN:VTIMEZONE
TZID:Europe/Rome
BEGIN:DAYLIGHT
TZOFFSETFROM:+0100
TZOFFSETTO:+0200
TZNAME:CEST
DTSTART:20250330T010000
END:DAYLIGHT
BEGIN:STANDARD
TZOFFSETFROM:+0200
TZOFFSETTO:+0100
TZNAME:CET
DTSTART:20251026T010000
END:STANDARD
BEGIN:DAYLIGHT
TZOFFSETFROM:+0100
TZOFFSETTO:+0200
TZNAME:CEST
DTSTART:20260329T010000
END:DAYLIGHT
BEGIN:STANDARD
TZOFFSETFROM:+0200
TZOFFSETTO:+0100
TZNAME:CET
DTSTART:20261025T010000
END:STANDARD
BEGIN:DAYLIGHT
TZOFFSETFROM:+0100
TZOFFSETTO:+0200
TZNAME:CEST
DTSTART:20270328T010000
END:DAYLIGHT
BEGIN:STANDARD
TZOFFSETFROM:+0200
TZOFFSETTO:+0100
TZNAME:CET
DTSTART:20271031T010000
END:STANDARD
END:VTIMEZONE
BEGIN:VEVENT
DTSTART;TZID=Europe/Rome:20260225T080000
DTEND;TZID=Europe/Rome:20260227T170000
DTSTAMP:20260425T232737
CREATED:20260323T103443Z
LAST-MODIFIED:20260323T103553Z
UID:2681-1772006400-1772211600@auorl.it
SUMMARY:VI EDITION - Hands on ultrasound course in head & neck diseases
DESCRIPTION:VI EDITION\nHands on ultrasound course in head & neck diseases\n2026 February from 25th to 27th \nPAVIA\nFondazione IRCCS Policlinico San Matteo \n  \nAims of the course\nThis course introduces head and neck ultrasounds and ultrasound-guided intervention skills to specialists and registrars in Otolaryngology-Head and Neck Surgery. The number of US exams is increasing both in outpatient and surgical settings\, and it can help head and neck surgeons to improve the diagnostic work-up and surgical results for patients with head and neck cancers. Moreover\, introducing minimally invasive treatments (MIT)\, such as radiofrequency electrochemotherapy or the injection of sclerosant drugs in neck pathology\, requires adequate US skills. The course is also relevant to other specialties that can benefit from using head and neck US\, such as endocrinologists\, pediatricians\, radiologists\, etc. This practical course is designed with frontal lectures and interactive sessions; hands-on lab sessions will allow the participants to develop practical skills by directly training on volunteers or patients under faculty supervision. Furthermore\, the participants will also practice ultrasound-guided interventions (including fine-needle aspiration biopsies\, core needle biopsies\, and \nPROGRAMMA\n 
URL:https://auorl.it/evento/vi-edition-hands-on-ultrasound-course-in-head-neck-diseases/
CATEGORIES:PATROCINATO
ATTACH;FMTTYPE=image/jpeg:https://auorl.it/wp-content/uploads/2026/03/Programma-VI-editionHands-on-ultrasound-course-1.jpg
END:VEVENT
END:VCALENDAR