BEGIN:VCALENDAR
VERSION:2.0
PRODID:-//AUORL - ECPv6.15.20//NONSGML v1.0//EN
CALSCALE:GREGORIAN
METHOD:PUBLISH
X-WR-CALNAME:AUORL
X-ORIGINAL-URL:https://auorl.it
X-WR-CALDESC:Eventi per AUORL
REFRESH-INTERVAL;VALUE=DURATION:PT1H
X-Robots-Tag:noindex
X-PUBLISHED-TTL:PT1H
BEGIN:VTIMEZONE
TZID:Europe/Rome
BEGIN:DAYLIGHT
TZOFFSETFROM:+0100
TZOFFSETTO:+0200
TZNAME:CEST
DTSTART:20250330T010000
END:DAYLIGHT
BEGIN:STANDARD
TZOFFSETFROM:+0200
TZOFFSETTO:+0100
TZNAME:CET
DTSTART:20251026T010000
END:STANDARD
BEGIN:DAYLIGHT
TZOFFSETFROM:+0100
TZOFFSETTO:+0200
TZNAME:CEST
DTSTART:20260329T010000
END:DAYLIGHT
BEGIN:STANDARD
TZOFFSETFROM:+0200
TZOFFSETTO:+0100
TZNAME:CET
DTSTART:20261025T010000
END:STANDARD
BEGIN:DAYLIGHT
TZOFFSETFROM:+0100
TZOFFSETTO:+0200
TZNAME:CEST
DTSTART:20270328T010000
END:DAYLIGHT
BEGIN:STANDARD
TZOFFSETFROM:+0200
TZOFFSETTO:+0100
TZNAME:CET
DTSTART:20271031T010000
END:STANDARD
END:VTIMEZONE
BEGIN:VEVENT
DTSTART;TZID=Europe/Rome:20260304T080000
DTEND;TZID=Europe/Rome:20260306T170000
DTSTAMP:20260425T232159
CREATED:20260212T092903Z
LAST-MODIFIED:20260212T104704Z
UID:2571-1772611200-1772816400@auorl.it
SUMMARY:7° Congresso Nazionale Società Italiana di Rinologia
DESCRIPTION:7° Congresso Nazionale Società Italiana di Rinologia\n\n\n\n\n\n\n\nXV Congress International Symposium on Rhinosinusitis and Nasal Polyposis\n\n\n\n\n\n\n\n\n\n\nEUROSAS Limited Edition “What’s New in OSAHS…World”\n\n\n\n\n\n\n\n4th-6th MARCH 2026 \nROMA \n\nVai al sito web
URL:https://auorl.it/evento/7-congresso-nazionale-societa-italiana-di-rinologia/
CATEGORIES:PATROCINATO
ATTACH;FMTTYPE=image/jpeg:https://auorl.it/wp-content/uploads/2026/02/SIR_ISRN_EUROSAS-2026-copertina-OK-1.jpg
END:VEVENT
END:VCALENDAR